BEGIN:VCALENDAR
VERSION:2.0
PRODID:-//hacksw/handcal//NONSGML v1.0//EN
BEGIN:VEVENT
SUMMARY:CONCOURS DE PETANQUE
UID:b5e9851a-4f97-428a-9d15-b9897e09769f
DTSTART:20260502T111500Z
DTEND:20260502T170000Z
LOCATION:Localisation   
CATEGORIES:Sportif
STATUS:
URL;VALUE=URI:https://www.cbhpetitmars.com/evenements/2026/05/02/concours-de-petanque-2444080
END:VEVENT
END:VCALENDAR
